BEGIN:VCALENDAR
VERSION:2.0
PRODID:-//hacksw/handcal//NONSGML v1.0//EN
CALSCALE:GREGORIAN
BEGIN:VEVENT
ORGANIZER;CN=Emergent BioSolutions Inc.:MAILTO:no-reply@mail.gcs-web.com
DTEND:
UID:24cc241a-6257-4e95-8c6f-9593e5221508
DTSTAMP:1776695709
LOCATION:https://edge.media-server.com/mmc/p/qw3ajghx
DESCRIPTION:Event Details https://investors.emergentbiosolutions.com/events/event-details/q1-2026-emergent-biosolutions-inc-earnings-conference-call\n\nWebcast: https://edge.media-server.com/mmc/p/qw3ajghx
URL;VALUE=URI:https://edge.media-server.com/mmc/p/qw3ajghx
SUMMARY:Emergent BioSolutions Inc. - Q1 2026 Emergent BioSolutions Inc. Earnings Conference Call
DTSTART:20260430T210000Z
END:VEVENT
END:VCALENDAR